Workbook

Sheet Variables
A3: Enter the number of points assigned to a win for Singles, Doubles and Triples.
A5: Format | B5: Points
A7: Singles | B7: 2
A8: Doubles | B8: 3
A9: Triples | B9: 5
A12: Enter the name of each team.
A14: Teams | B14: Names | D14: Participants
A16: 1 | B16: Gainesville | D16: Amelia
A17: 2 | B17: Miami | D17: Gainesville
A18: 3 | B18: Lake Worth | D18: Lake Worth
A19: 4 | B19: Amelia | D19: Miami
A20: 5 | B20: Tampa | D20: St. Augustine
A21: 6 | B21: St. Augustine | D21: Tampa
A23: Enter the Start Time and other variables.
A25: Start Time | B25: 0.35416667
A26: Timed Games | B26: 0.041666667
A27: Time Between Games | B27: 0.013888889

Sheet Program
A3: Be sure to arrive at the park between 7:30-7:45 a.m. on Saturday.
A4: We will take the group photo promptly at 8:00 and make Announcements at 8:15.
A6: All games are timed 1 hour plus 1 end.
C8: Start | D8: End
A9: Saturday | B9: Game 1 | C9: =Variables!$B$25 -> 0.35416667 | D9: =C9+Variables!$B$26 -> 0.39583333 | F9: Format | G9: Points
B10: Game 2 | C10: =D9+Variables!$B$27 -> 0.40972222 | D10: =C10+Variables!$B$26 -> 0.45138889
B11: Game 3 | C11: =D10+Variables!$B$27 -> 0.46527778 | D11: =C11+Variables!$B$26 -> 0.50694444 | F11: Singles | G11: 2
B12: Lunch | F12: Doubles | G12: 3
B13: Game 4 | C13: 0.041666667 | D13: =C13+Variables!$B$26 -> 0.083333333 | F13: Triples | G13: 5
B14: Game 5 | C14: =D13+Variables!$B$27 -> 0.097222222 | D14: =C14+Variables!$B$26 -> 0.13888889
B15: Game 6 | C15: =D14+Variables!$B$27 -> 0.15277778 | D15: =C15+Variables!$B$26 -> 0.19444444
B16: Party: Saturday Night Fever
A18: Sunday | B18: Game 7 | C18: 0.375 | D18: =C18+Variables!$B$26 -> 0.41666667 | F18: Teams | G18: Names
B19: Game 8 | C19: =D18+Variables!$B$27 -> 0.43055556 | D19: =C19+Variables!$B$26 -> 0.47222222
B20: Game 9 | C20: =D19+Variables!$B$27 -> 0.48611111 | D20: =C20+Variables!$B$26 -> 0.52777778 | F20: 1 | G20: Gainesville
B21: Lunch | F21: 2 | G21: Miami
B22: Game 10 | C22: 0.0625 | D22: =C22+Variables!$B$26 -> 0.10416667 | F22: 3 | G22: Lake Worth
F23: 4 | G23: Amelia
A24: Award Ceremony | C24: 0.11458333 | D24: 0.125 | F24: 5 | G24: Tampa
F25: 6 | G25: St. Augustine

Sheet Teams
B3: Amelia Island | C3: Gainesville | D3: Lake Worth | E3: Miami | F3: St. Augustine | G3: Tampa
A4: 1 | B4: Songmi Keating | C4: Joe Lauerman | D4: Bernard Masson | E4: Mikael Leclercq | F4: Jim Della Penna | G4: Alex Canesse
A5: 2 | B5: BJ Morris | C5: Jeff Rollins | D5: Alain Gimenez | E5: Christian Cazenave | F5: Grady Fischer | G5: Stefan Nicolas
A6: 3 | B6: Lori Beth Creasy | C6: Karen Hull | D6: Jerome Nicolas | E6: Leo Fleitas | F6: Linda Kindsvatter | G6: Juan Garcia
A7: 4 | B7: Patrick Hovan | C7: Ward Lindsey | D7: Fabian Nicolas | E7: David Fournier | F7: Mike Sisto | G7: Stacey Linh
A8: 5 | B8: Tom Kane | C8: Peter Saari | D8: Claudia Nicolas | E8: Mario Olivieri | F8: Daniel Smith | G8: Jeff Cronin
A9: 6 | B9: Omar Errouiam | C9: Bob Stevens | D9: Daniel Delichy | E9: Roxanna Caridad | F9: Jeff Vasseur | G9: Sara Cronin
A10: 7 | B10: Fouad Lahnoune | C10: Sarah Lauerman | D10: Christian Cote | E10: Eli Fleitas | F10: Pat Krovos | G10: Wendy Laurent
A11: 8 | C11: Sue Percival | D11: Linda Cote | F11: Jerry Leavy | G11: Michel Laurent

Sheet Lineup Doubles
B1: Club: .............................................. | E1: Club: .............................................. | H1: Club: .............................................. | K1: Club: ..............................................
B2: Game #: …....................... | E2: Game #: …....................... | H2: Game #: …....................... | K2: Game #: ….......................
B3: Mixed Doubles | D3: Mixed Doubles | G3: Mixed Doubles | J3: Mixed Doubles
B6: Doubles | D6: Doubles | G6: Doubles | J6: Doubles
B9: Singles 1 | D9: Singles 1 | G9: Singles 1 | J9: Singles 1
B11: Singles 2 | D11: Singles 2 | G11: Singles 2 | J11: Singles 2
B15: Club: .............................................. | E15: Club: .............................................. | H15: Club: .............................................. | K15: Club: ..............................................
B16: Game #: …....................... | E16: Game #: …....................... | H16: Game #: …....................... | K16: Game #: ….......................
B17: Mixed Doubles | E17: Mixed Doubles | G17: Mixed Doubles | J17: Mixed Doubles
B20: Doubles | E20: Doubles | G20: Doubles | J20: Doubles
B23: Singles 1 | E23: Singles 1 | G23: Singles 1 | J23: Singles 1
B25: Singles 2 | E25: Singles 2 | G25: Singles 2 | J25: Singles 2

Sheet Lineup Triples
B1: Club: .............................................. | E1: Club: .............................................. | H1: Club: .............................................. | K1: Club: ..............................................
B2: Game #: …....................... | E2: Game #: …....................... | H2: Game #: …....................... | K2: Game #: ….......................
B3: Mixed Triples | E3: Mixed Triples | H3: Mixed Triples | K3: Mixed Triples
B7: Triples | E7: Triples | H7: Triples | K7: Triples
B16: Club: .............................................. | E16: Club: .............................................. | H16: Club: .............................................. | K16: Club: ..............................................
B17: Game #: …....................... | E17: Game #: …....................... | H17: Game #: …....................... | K17: Game #: ….......................
B18: Mixed Triples | E18: Mixed Triples | H18: Mixed Triples | K18: Mixed Triples
B22: Triples | E22: Triples | H22: Triples | K22: Triples

Sheet Games
A2: Game 1 | M2: Game 2
B3: MxDb | D3: Db | F3: Sing 1 | H3: Sing 2 | N3: MxTr | P3: Triples
B4: Court | D4: Court | F4: Court | H4: Court | N4: Court | P4: Court
A5: =Variables!B16 -> Gainesville | B5: 5 | D5: 6 | F5: 9 | H5: 7 | M5: =Variables!B16 -> Gainesville | N5: 1 | P5: 4
A6: =Variables!B17 -> Miami | M6: =Variables!B18 -> Lake Worth
A8: =Variables!B18 -> Lake Worth | B8: 10 | D8: 8 | F8: 3 | H8: 11 | M8: =Variables!B20 -> Tampa | N8: 8 | P8: 3
A9: =Variables!B19 -> Amelia | M9: =Variables!B17 -> Miami
A11: =Variables!B20 -> Tampa | B11: 1 | D11: 4 | F11: 12 | H11: 2 | M11: =Variables!B19 -> Amelia | N11: 7 | P11: 5
A12: =Variables!B21 -> St. Augustine | M12: =Variables!B21 -> St. Augustine
A14: Game 3 | M14: Game 4
B15: MxDb | D15: Db | F15: Sing 1 | H15: Sing 2 | N15: MxTr | P15: Triples
B16: Court | D16: Court | F16: Court | H16: Court | N16: Court | P16: Court
A17: =Variables!B16 -> Gainesville | B17: 3 | D17: 10 | F17: 8 | H17: 11 | M17: =Variables!B16 -> Gainesville | N17: 3 | P17: 7
A18: =Variables!B21 -> St. Augustine | M18: =Variables!B20 -> Tampa
A20: =Variables!B18 -> Lake Worth | B20: 2 | D20: 1 | F20: 12 | H20: 7 | M20: =Variables!B21 -> St. Augustine | N20: 6 | P20: 8
A21: =Variables!B17 -> Miami | M21: =Variables!B18 -> Lake Worth
A23: =Variables!B19 -> Amelia | B23: 9 | D23: 6 | F23: 4 | H23: 5 | M23: =Variables!B17 -> Miami | N23: 2 | P23: 4
A24: =Variables!B20 -> Tampa | M24: =Variables!B19 -> Amelia
A26: Game 5 | M26: Game 6
B27: MxDb | D27: Db | F27: Sing 1 | H27: Sing 2 | N27: MxTr | P27: Triples
B28: Court | D28: Court | F28: Court | H28: Court | N28: Court | P28: Court
A29: =Variables!B19 -> Amelia | B29: 12 | D29: 2 | F29: 10 | H29: 1 | M29: =Variables!B16 -> Gainesville | N29: 5 | P29: 4
A30: =Variables!B16 -> Gainesville | M30: =Variables!B17 -> Miami
A32: =Variables!B18 -> Lake Worth | B32: 11 | D32: 5 | F32: 7 | H32: 4 | M32: =Variables!B18 -> Lake Worth | N32: 6 | P32: 3
A33: =Variables!B20 -> Tampa | M33: =Variables!B19 -> Amelia
A35: =Variables!B21 -> St. Augustine | B35: 3 | D35: 6 | F35: 9 | H35: 8 | M35: =Variables!B20 -> Tampa | N35: 7 | P35: 1
A36: =Variables!B17 -> Miami | M36: =Variables!B21 -> St. Augustine
A38: Game 7 | M38: Game 8
B39: MxDb | D39: Db | F39: Sing 1 | H39: Sing 2 | N39: MxTr | P39: Triples
B40: Court | D40: Court | F40: Court | H40: Court | N40: Court | P40: Court
A41: =Variables!B16 -> Gainesville | B41: 12 | D41: 5 | F41: 2 | H41: 8 | M41: =Variables!B16 -> Gainesville | N41: 2 | P41: 6
A42: =Variables!B18 -> Lake Worth | M42: =Variables!B21 -> St. Augustine
A44: =Variables!B20 -> Tampa | B44: 10 | D44: 11 | F44: 3 | H44: 6 | M44: =Variables!B18 -> Lake Worth | N44: 1 | P44: 4
A45: =Variables!B17 -> Miami | M45: =Variables!B17 -> Miami
A47: =Variables!B19 -> Amelia | B47: 4 | D47: 1 | F47: 7 | H47: 9 | M47: =Variables!B19 -> Amelia | N47: 5 | P47: 8
A48: =Variables!B21 -> St. Augustine | M48: =Variables!B20 -> Tampa
A55: Game 9 | M55: Game 10
B56: MxDb | D56: Db | F56: Sing 1 | H56: Sing 2 | N56: MxTr | P56: Triples
B57: Court | D57: Court | F57: Court | H57: Court | N57: Court | P57: Court
A58: =Variables!B16 -> Gainesville | B58: 1 | D58: 6 | F58: 10 | H58: 8 | M58: =Variables!B19 -> Amelia | N58: 8 | P58: 3
...

Sheet Scoresheet
A2: Game 1
B3: Mixed Doubles | F3: Doubles | J3: Singles 1 | N3: Singles 2 | R3: Total
B4: Court | C4: Score | D4: Points | F4: Court | G4: Score | H4: Points | J4: Court | K4: Score | L4: Points | N4: Court | O4: Score | P4: Points | R4: Points
A5: =Variables!B16 -> Gainesville | B5: 5 | C5: 13 | D5: =IF(C5>C6, Variables!$B$8, "") -> 3 | F5: 6 | G5: 13 | H5: =IF(G5>G6, Variables!$B$8, "") -> 3 | J5: 9 | K5: 1 | L5: =IF(K5>K6, Variables!$B$7, "") | N5: 7 | O5: 11 | P5: =IF(O5>O6, Variables!$B$7, "") | R5: =SUM(D5,H5,L5,P5) -> 6
A6: =Variables!B17 -> Miami | C6: 1 | D6: =IF(C6>C5, Variables!$B$8, "") | G6: 7 | H6: =IF(G6>G5, Variables!$B$8, "") | K6: 13 | L6: =IF(K6>K5, Variables!$B$7, "") -> 2 | O6: 13 | P6: =IF(O6>O5, Variables!$B$7, "") -> 2 | R6: =SUM(D6,H6,L6,P6) -> 4
A8: =Variables!B18 -> Lake Worth | B8: 10 | C8: 11 | D8: =IF(C8>C9, Variables!$B$8, "") | F8: 8 | G8: 13 | H8: =IF(G8>G9, Variables!$B$8, "") -> 3 | J8: 3 | K8: 13 | L8: =IF(K8>K9, Variables!$B$7, "") -> 2 | N8: 11 | O8: 13 | P8: =IF(O8>O9, Variables!$B$7, "") -> 2 | R8: =SUM(D8,H8,L8,P8) -> 7
A9: =Variables!B19 -> Amelia | C9: 13 | D9: =IF(C9>C8, Variables!$B$8, "") -> 3 | G9: 10 | H9: =IF(G9>G8, Variables!$B$8, "") | K9: 7 | L9: =IF(K9>K8, Variables!$B$7, "") | O9: 4 | P9: =IF(O9>O8, Variables!$B$7, "") | R9: =SUM(D9,H9,L9,P9) -> 3
A11: =Variables!B20 -> Tampa | B11: 1 | C11: 13 | D11: =IF(C11>C12, Variables!$B$8, "") -> 3 | F11: 4 | G11: 13 | H11: =IF(G11>G12, Variables!$B$8, "") -> 3 | J11: 12 | K11: 10 | L11: =IF(K11>K12, Variables!$B$7, "") | N11: 2 | O11: 13 | P11: =IF(O11>O12, Variables!$B$7, "") -> 2 | R11: =SUM(D11,H11,L11,P11) -> 8
A12: =Variables!B21 -> St. Augustine | C12: 11 | D12: =IF(C12>C11, Variables!$B$8, "") | G12: 0 | H12: =IF(G12>G11, Variables!$B$8, "") | K12: 13 | L12: =IF(K12>K11, Variables!$B$7, "") -> 2 | O12: 3 | P12: =IF(O12>O11, Variables!$B$7, "") | R12: =SUM(D12,H12,L12,P12) -> 2
A15: Game 2
B16: Mixed Triples | F16: Triples | J16: Total
B17: Court | C17: Score | D17: Points | F17: Court | G17: Score | H17: Points | J17: Points
A18: =Variables!B16 -> Gainesville | B18: 1 | C18: 13 | D18: =IF(C18>C19, Variables!$B$9, "") -> 5 | F18: 4 | G18: 12 | H18: =IF(G18>G19, Variables!$B$9, "") | J18: =SUM(D18,H18) -> 5
A19: =Variables!B18 -> Lake Worth | C19: 12 | D19: =IF(C19>C18, Variables!$B$9, "") | G19: 13 | H19: =IF(G19>G18, Variables!$B$9, "") -> 5 | J19: =SUM(D19,H19) -> 5
A21: =Variables!B20 -> Tampa | B21: 8 | C21: 4 | D21: =IF(C21>C22, Variables!$B$9, "") | F21: 3 | G21: 11 | H21: =IF(G21>G22, Variables!$B$9, "") | J21: =SUM(D21,H21) -> 0 | L21: Courts not in use
A22: =Variables!B17 -> Miami | C22: 13 | D22: =IF(C22>C21, Variables!$B$9, "") -> 5 | G22: 13 | H22: =IF(G22>G21, Variables!$B$9, "") -> 5 | J22: =SUM(D22,H22) -> 10 | L22: 2, 6, 9, 10, 11 and 12
A24: =Variables!B19 -> Amelia | B24: 7 | C24: 8 | D24: =IF(C24>C25, Variables!$B$9, "") | F24: 5 | G24: 13 | H24: =IF(G24>G25, Variables!$B$9, "") -> 5 | J24: =SUM(D24,H24) -> 5
A25: =Variables!B21 -> St. Augustine | C25: 13 | D25: =IF(C25>C24, Variables!$B$9, "") -> 5 | G25: 0 | H25: =IF(G25>G24, Variables!$B$9, "") | J25: =SUM(D25,H25) -> 5
A28: Game 3
B29: Mixed Doubles | F29: Doubles | J29: Singles 1 | N29: Singles 2 | R29: Total
B30: Court | C30: Score | D30: Points | F30: Court | G30: Score | H30: Points | J30: Court | K30: Score | L30: Points | N30: Court | O30: Score | P30: Points | R30: Points
A31: =Variables!B16 -> Gainesville | B31: 3 | C31: 13 | D31: =IF(C31>C32, Variables!$B$8, "") -> 3 | F31: 10 | G31: 13 | H31: =IF(G31>G32, Variables!$B$8, "") -> 3 | J31: 8 | K31: 10 | L31: =IF(K31>K32, Variables!$B$7, "") | N31: 11 | O31: 2 | P31: =IF(O31>O32, Variables!$B$7, "") | R31: =SUM(D31,H31,L31,P31) -> 6
A32: =Variables!B21 -> St. Augustine | C32: 7 | D32: =IF(C32>C31, Variables!$B$8, "") | G32: 2 | H32: =IF(G32>G31, Variables!$B$8, "") | K32: 13 | L32: =IF(K32>K31, Variables!$B$7, "") -> 2 | O32: 13 | P32: =IF(O32>O31, Variables!$B$7, "") -> 2 | R32: =SUM(D32,H32,L32,P32) -> 4
A34: =Variables!B18 -> Lake Worth | B34: 2 | C34: 13 | D34: =IF(C34>C35, Variables!$B$8, "") -> 3 | F34: 1 | G34: 3 | H34: =IF(G34>G35, Variables!$B$8, "") | J34: 12 | K34: 10 | L34: =IF(K34>K35, Variables!$B$7, "") | N34: 7 | O34: 13 | P34: =IF(O34>O35, Variables!$B$7, "") -> 2 | R34: =SUM(D34,H34,L34,P34) -> 5
A35: =Variables!B17 -> Miami | C35: 4 | D35: =IF(C35>C34, Variables!$B$8, "") | G35: 13 | H35: =IF(G35>G34, Variables!$B$8, "") -> 3 | K35: 13 | L35: =IF(K35>K34, Variables!$B$7, "") -> 2 | O35: 11 | P35: =IF(O35>O34, Variables!$B$7, "") | R35: =SUM(D35,H35,L35,P35) -> 5
A37: =Variables!B19 -> Amelia | B37: 9 | C37: 1 | D37: =IF(C37>C38, Variables!$B$8, "") | F37: 6 | G37: 13 | H37: =IF(G37>G38, Variables!$B$8, "") -> 3 | J37: 4 | K37: 13 | L37: =IF(K37>K38, Variables!$B$7, "") -> 2 | N37: 5 | O37: 7 | P37: =IF(O37>O38, Variables!$B$7, "") | R37: =SUM(D37,H37,L37,P37) -> 5
A38: =Variables!B20 -> Tampa | C38: 13 | D38: =IF(C38>C37, Variables!$B$8, "") -> 3 | G38: 3 | H38: =IF(G38>G37, Variables!$B$8, "") | K38: 7 | L38: =IF(K38>K37, Variables!$B$7, "") | O38: 13 | P38: =IF(O38>O37, Variables!$B$7, "") -> 2 | R38: =SUM(D38,H38,L38,P38) -> 5
A41: Game 4
B42: Mixed Triples | F42: Triples | J42: Total
B43: Court | C43: Score | D43: Points | F43: Court | G43: Score | H43: Points | J43: Points
A44: =Variables!B16 -> Gainesville | B44: 3 | C44: 1 | D44: =IF(C44>C45, Variables!$B$9, "") | F44: 7 | G44: 5 | H44: =IF(G44>G45, Variables!$B$9, "") | J44: =SUM(D44,H44) -> 0
A45: =Variables!B20 -> Tampa | C45: 13 | D45: =IF(C45>C44, Variables!$B$9, "") -> 5 | G45: 13 | H45: =IF(G45>G44, Variables!$B$9, "") -> 5 | J45: =SUM(D45,H45) -> 10
A47: =Variables!B21 -> St. Augustine | B47: 6 | C47: 6 | D47: =IF(C47>C48, Variables!$B$9, "") | F47: 8 | G47: 10 | H47: =IF(G47>G48, Variables!$B$9, "") | J47: =SUM(D47,H47) -> 0 | L47: Courts not in use
A48: =Variables!B18 -> Lake Worth | C48: 8 | D48: =IF(C48>C47, Variables!$B$9, "") -> 5 | G48: 13 | H48: =IF(G48>G47, Variables!$B$9, "") -> 5 | J48: =SUM(D48,H48) -> 10 | L48: 1, 5, 9, 10, 11 and 12
A50: =Variables!B17 -> Miami | B50: 2 | C50: 13 | D50: =IF(C50>C51, Variables!$B$9, "") -> 5 | F50: 4 | G50: 8 | H50: =IF(G50>G51, Variables!$B$9, "") | J50: =SUM(D50,H50) -> 5
A51: =Variables!B19 -> Amelia | C51: 7 | D51: =IF(C51>C50, Variables!$B$9, "") | G51: 13 | H51: =IF(G51>G50, Variables!$B$9, "") -> 5 | J51: =SUM(D51,H51) -> 5
A53: Game 5
B54: Mixed Doubles | F54: Doubles | J54: Singles 1 | N54: Singles 2 | R54: Total
B55: Court | C55: Score | D55: Points | F55: Court | G55: Score | H55: Points | J55: Court | K55: Score | L55: Points | N55: Court | O55: Score | P55: Points | R55: Points
A56: =Variables!B19 -> Amelia | B56: 12 | C56: 13 | D56: =IF(C56>C57, Variables!$B$8, "") -> 3 | F56: 2 | G56: 13 | H56: =IF(G56>G57, Variables!$B$8, "") -> 3 | J56: 10 | K56: 13 | L56: =IF(K56>K57, Variables!$B$7, "") -> 2 | N56: 1 | O56: 13 | P56: =IF(O56>O57, Variables!$B$7, "") -> 2 | R56: =SUM(D56,H56,L56,P56) -> 10
...

Sheet Results
B3: Game 1 | C3: Game 2 | D3: Game 3 | E3: Game 4 | F3: Game 5 | G3: Game 6 | H3: Game 7 | I3: Game 8 | J3: Game 9 | K3: Game 10 | L3: Total | M3: Ranking
A4: =Variables!B17 -> Miami | B4: =Scoresheet!R6 -> 4 | C4: =Scoresheet!J22 -> 10 | D4: =Scoresheet!R35 -> 5 | E4: =Scoresheet!J50 -> 5 | F4: =Scoresheet!R63 -> 10 | G4: =Scoresheet!J70 -> 10 | H4: =Scoresheet!R86 -> 4 | I4: =Scoresheet!J99 -> 5 | J4: =Scoresheet!R113 -> 10 | K4: =Scoresheet!J127 -> 10 | L4: =SUM(B4:K4) -> 73 | M4: =_xlfn.RANK.EQ(L4,$L$4:$L$9,0) -> 1
A5: =Variables!B18 -> Lake Worth | B5: =Scoresheet!R8 -> 7 | C5: =Scoresheet!J19 -> 5 | D5: =Scoresheet!R34 -> 5 | E5: =Scoresheet!J48 -> 10 | F5: =Scoresheet!R59 -> 7 | G5: =Scoresheet!J72 -> 5 | H5: =Scoresheet!R83 -> 8 | I5: =Scoresheet!J98 -> 5 | J5: =Scoresheet!R111 -> 5 | K5: =Scoresheet!J123 -> 5 | L5: =SUM(B5:K5) -> 62 | M5: =_xlfn.RANK.EQ(L5,$L$4:$L$9,0) -> 2
A6: =Variables!B20 -> Tampa | B6: =Scoresheet!R11 -> 8 | C6: =Scoresheet!J21 -> 0 | D6: =Scoresheet!R38 -> 5 | E6: =Scoresheet!J45 -> 10 | F6: =Scoresheet!R60 -> 3 | G6: =Scoresheet!J75 -> 5 | H6: =Scoresheet!R85 -> 6 | I6: =Scoresheet!J102 -> 5 | J6: =Scoresheet!R108 -> 8 | K6: =Scoresheet!J124 -> 5 | L6: =SUM(B6:K6) -> 55 | M6: =_xlfn.RANK.EQ(L6,$L$4:$L$9,0) -> 3
A7: =Variables!B19 -> Amelia | B7: =Scoresheet!R9 -> 3 | C7: =Scoresheet!J24 -> 5 | D7: =Scoresheet!R37 -> 5 | E7: =Scoresheet!J51 -> 5 | F7: =Scoresheet!R56 -> 10 | G7: =Scoresheet!J73 -> 5 | H7: =Scoresheet!R88 -> 7 | I7: =Scoresheet!J101 -> 5 | J7: =Scoresheet!R114 -> 0 | K7: =Scoresheet!J120 -> 10 | L7: =SUM(B7:K7) -> 55 | M7: =_xlfn.RANK.EQ(L7,$L$4:$L$9,0) -> 3
A8: =Variables!B21 -> St. Augustine | B8: =Scoresheet!R12 -> 2 | C8: =Scoresheet!J25 -> 5 | D8: =Scoresheet!R32 -> 4 | E8: =Scoresheet!J47 -> 0 | F8: =Scoresheet!R62 -> 0 | G8: =Scoresheet!J76 -> 5 | H8: =Scoresheet!R89 -> 3 | I8: =Scoresheet!J96 -> 5 | J8: =Scoresheet!R110 -> 5 | K8: =Scoresheet!J126 -> 0 | L8: =SUM(B8:K8) -> 29 | M8: =_xlfn.RANK.EQ(L8,$L$4:$L$9,0) -> 5
A9: =Variables!B16 -> Gainesville | B9: =Scoresheet!R5 -> 6 | C9: =Scoresheet!J18 -> 5 | D9: =Scoresheet!R31 -> 6 | E9: =Scoresheet!J44 -> 0 | F9: =Scoresheet!R57 -> 0 | G9: =Scoresheet!J69 -> 0 | H9: =Scoresheet!R82 -> 2 | I9: =Scoresheet!J95 -> 5 | J9: =Scoresheet!R107 -> 2 | K9: =Scoresheet!J121 -> 0 | L9: =SUM(B9:K9) -> 26 | M9: =_xlfn.RANK.EQ(L9,$L$4:$L$9,0) -> 6
