Workbook

Sheet Variables
A3: Enter the number of points assigned to a win for Singles, Doubles and Triples.
A5: Format | B5: Points
A7: Singles | B7: 2
A8: Doubles | B8: 3
A9: Triples | B9: 5
A12: Enter the name of each team.
A14: Teams | B14: Names | D14: Participants
A16: 1 | B16: Gainesville | D16: Amelia
A17: 2 | B17: Miami | D17: Gainesville
A18: 3 | B18: Lake Worth | D18: Lake Worth
A19: 4 | B19: Amelia | D19: Miami
A20: 5 | B20: Tampa | D20: St. Augustine
A21: 6 | B21: St. Augustine | D21: Tampa
A23: Enter the Start Time and other variables.
A25: Start Time | B25: 0.35416667
A26: Timed Games | B26: 0.041666667
A27: Time Between Games | B27: 0.013888889

Sheet Program
A3: Be sure to arrive at the park between 7:30-7:45 a.m. on Saturday.
A4: We will take the group photo promptly at 8:00 and make Announcements at 8:15.
A6: All games are timed 1 hour plus 1 end.
C8: Start | D8: End
A9: Saturday | B9: Game 1 | C9: =Variables!$B$25 -> 0.35416667 | D9: =C9+Variables!$B$26 -> 0.39583333 | F9: Format | G9: Points
B10: Game 2 | C10: =D9+Variables!$B$27 -> 0.40972222 | D10: =C10+Variables!$B$26 -> 0.45138889
B11: Game 3 | C11: =D10+Variables!$B$27 -> 0.46527778 | D11: =C11+Variables!$B$26 -> 0.50694444 | F11: Singles | G11: 2
B12: Lunch | F12: Doubles | G12: 3
B13: Game 4 | C13: 0.041666667 | D13: =C13+Variables!$B$26 -> 0.083333333 | F13: Triples | G13: 5
B14: Game 5 | C14: =D13+Variables!$B$27 -> 0.097222222 | D14: =C14+Variables!$B$26 -> 0.13888889
B15: Game 6 | C15: =D14+Variables!$B$27 -> 0.15277778 | D15: =C15+Variables!$B$26 -> 0.19444444
B16: Party: Saturday Night Fever
A18: Sunday | B18: Game 7 | C18: 0.375 | D18: =C18+Variables!$B$26 -> 0.41666667 | F18: Teams | G18: Names
B19: Game 8 | C19: =D18+Variables!$B$27 -> 0.43055556 | D19: =C19+Variables!$B$26 -> 0.47222222
B20: Game 9 | C20: =D19+Variables!$B$27 -> 0.48611111 | D20: =C20+Variables!$B$26 -> 0.52777778 | F20: 1 | G20: Gainesville
B21: Lunch | F21: 2 | G21: Miami
B22: Game 10 | C22: 0.0625 | D22: =C22+Variables!$B$26 -> 0.10416667 | F22: 3 | G22: Lake Worth
F23: 4 | G23: Amelia
A24: Award Ceremony | C24: 0.11458333 | D24: 0.125 | F24: 5 | G24: Tampa
F25: 6 | G25: St. Augustine

Sheet Teams
B3: Amelia Island | C3: Gainesville | D3: Lake Worth | E3: Miami | F3: St. Augustine | G3: Tampa
A4: 1 | B4: Songmi Keating | C4: Joe Lauerman | D4: Bernard Masson | E4: Mikael Leclercq | F4: Jim Della Penna | G4: Alex Canesse
A5: 2 | B5: BJ Morris | C5: Jeff Rollins | D5: Alain Gimenez | E5: Christian Cazenave | F5: Grady Fischer | G5: Stefan Nicolas
A6: 3 | B6: Lori Beth Creasy | C6: Karen Hull | D6: Jerome Nicolas | E6: Leo Fleitas | F6: Linda Kindsvatter | G6: Juan Garcia
A7: 4 | B7: Patrick Hovan | C7: Ward Lindsey | D7: Fabian Nicolas | E7: David Fournier | F7: Mike Sisto | G7: Stacey Linh
A8: 5 | B8: Tom Kane | C8: Peter Saari | D8: Claudia Nicolas | E8: Mario Olivieri | F8: Daniel Smith | G8: Jeff Cronin
A9: 6 | B9: Omar Errouiam | C9: Bob Stevens | D9: Daniel Delichy | E9: Roxanna Caridad | F9: Jeff Vasseur | G9: Sara Cronin
A10: 7 | B10: Fouad Lahnoune | C10: Sarah Lauerman | D10: Christian Cote | E10: Eli Fleitas | F10: Pat Krovos | G10: Wendy Laurent
A11: 8 | C11: Sue Percival | D11: Linda Cote | F11: Jerry Leavy | G11: Michel Laurent

Sheet Lineup Doubles
B1: Club: .............................................. | E1: Club: .............................................. | H1: Club: .............................................. | K1: Club: ..............................................
B2: Game #: …....................... | E2: Game #: …....................... | H2: Game #: …....................... | K2: Game #: ….......................
B3: Mixed Doubles | D3: Mixed Doubles | G3: Mixed Doubles | J3: Mixed Doubles
B6: Doubles | D6: Doubles | G6: Doubles | J6: Doubles
B9: Singles 1 | D9: Singles 1 | G9: Singles 1 | J9: Singles 1
B11: Singles 2 | D11: Singles 2 | G11: Singles 2 | J11: Singles 2
B15: Club: .............................................. | E15: Club: .............................................. | H15: Club: .............................................. | K15: Club: ..............................................
B16: Game #: …....................... | E16: Game #: …....................... | H16: Game #: …....................... | K16: Game #: ….......................
B17: Mixed Doubles | E17: Mixed Doubles | G17: Mixed Doubles | J17: Mixed Doubles
B20: Doubles | E20: Doubles | G20: Doubles | J20: Doubles
B23: Singles 1 | E23: Singles 1 | G23: Singles 1 | J23: Singles 1
B25: Singles 2 | E25: Singles 2 | G25: Singles 2 | J25: Singles 2

Sheet Lineup Triples
B1: Club: .............................................. | E1: Club: .............................................. | H1: Club: .............................................. | K1: Club: ..............................................
B2: Game #: …....................... | E2: Game #: …....................... | H2: Game #: …....................... | K2: Game #: ….......................
B3: Mixed Triples | E3: Mixed Triples | H3: Mixed Triples | K3: Mixed Triples
B7: Triples | E7: Triples | H7: Triples | K7: Triples
B16: Club: .............................................. | E16: Club: .............................................. | H16: Club: .............................................. | K16: Club: ..............................................
B17: Game #: …....................... | E17: Game #: …....................... | H17: Game #: …....................... | K17: Game #: ….......................
B18: Mixed Triples | E18: Mixed Triples | H18: Mixed Triples | K18: Mixed Triples
B22: Triples | E22: Triples | H22: Triples | K22: Triples

Sheet Games
A2: Game 1 | M2: Game 2
B3: MxDb | D3: Db | F3: Sing 1 | H3: Sing 2 | N3: MxTr | P3: Triples
B4: Court | D4: Court | F4: Court | H4: Court | N4: Court | P4: Court
A5: =Variables!B16 -> Gainesville | B5: 5 | D5: 6 | F5: 9 | H5: 7 | M5: =Variables!B16 -> Gainesville | N5: 1 | P5: 4
A6: =Variables!B17 -> Miami | M6: =Variables!B18 -> Lake Worth
A8: =Variables!B18 -> Lake Worth | B8: 10 | D8: 8 | F8: 3 | H8: 11 | M8: =Variables!B20 -> Tampa | N8: 8 | P8: 3
A9: =Variables!B19 -> Amelia | M9: =Variables!B17 -> Miami
A11: =Variables!B20 -> Tampa | B11: 1 | D11: 4 | F11: 12 | H11: 2 | M11: =Variables!B19 -> Amelia | N11: 7 | P11: 5
A12: =Variables!B21 -> St. Augustine | M12: =Variables!B21 -> St. Augustine
A14: Game 3 | M14: Game 4
B15: MxDb | D15: Db | F15: Sing 1 | H15: Sing 2 | N15: MxTr | P15: Triples
B16: Court | D16: Court | F16: Court | H16: Court | N16: Court | P16: Court
A17: =Variables!B16 -> Gainesville | B17: 3 | D17: 10 | F17: 8 | H17: 11 | M17: =Variables!B16 -> Gainesville | N17: 3 | P17: 7
A18: =Variables!B21 -> St. Augustine | M18: =Variables!B20 -> Tampa
A20: =Variables!B18 -> Lake Worth | B20: 2 | D20: 1 | F20: 12 | H20: 7 | M20: =Variables!B21 -> St. Augustine | N20: 6 | P20: 8
A21: =Variables!B17 -> Miami | M21: =Variables!B18 -> Lake Worth
A23: =Variables!B19 -> Amelia | B23: 9 | D23: 6 | F23: 4 | H23: 5 | M23: =Variables!B17 -> Miami | N23: 2 | P23: 4
A24: =Variables!B20 -> Tampa | M24: =Variables!B19 -> Amelia
A26: Game 5 | M26: Game 6
B27: MxDb | D27: Db | F27: Sing 1 | H27: Sing 2 | N27: MxTr | P27: Triples
B28: Court | D28: Court | F28: Court | H28: Court | N28: Court | P28: Court
A29: =Variables!B19 -> Amelia | B29: 12 | D29: 2 | F29: 10 | H29: 1 | M29: =Variables!B16 -> Gainesville | N29: 5 | P29: 4
A30: =Variables!B16 -> Gainesville | M30: =Variables!B17 -> Miami
A32: =Variables!B18 -> Lake Worth | B32: 11 | D32: 5 | F32: 7 | H32: 4 | M32: =Variables!B18 -> Lake Worth | N32: 6 | P32: 3
A33: =Variables!B20 -> Tampa | M33: =Variables!B19 -> Amelia
A35: =Variables!B21 -> St. Augustine | B35: 3 | D35: 6 | F35: 9 | H35: 8 | M35: =Variables!B20 -> Tampa | N35: 7 | P35: 1
A36: =Variables!B17 -> Miami | M36: =Variables!B21 -> St. Augustine
A38: Game 7 | M38: Game 8
B39: MxDb | D39: Db | F39: Sing 1 | H39: Sing 2 | N39: MxTr | P39: Triples
B40: Court | D40: Court | F40: Court | H40: Court | N40: Court | P40: Court
A41: =Variables!B16 -> Gainesville | B41: 12 | D41: 5 | F41: 2 | H41: 8 | M41: =Variables!B16 -> Gainesville | N41: 2 | P41: 6
A42: =Variables!B18 -> Lake Worth | M42: =Variables!B21 -> St. Augustine
A44: =Variables!B20 -> Tampa | B44: 10 | D44: 11 | F44: 3 | H44: 6 | M44: =Variables!B18 -> Lake Worth | N44: 1 | P44: 4
A45: =Variables!B17 -> Miami | M45: =Variables!B17 -> Miami
A47: =Variables!B19 -> Amelia | B47: 4 | D47: 1 | F47: 7 | H47: 9 | M47: =Variables!B19 -> Amelia | N47: 5 | P47: 8
A48: =Variables!B21 -> St. Augustine | M48: =Variables!B20 -> Tampa
A55: Game 9 | M55: Game 10
B56: MxDb | D56: Db | F56: Sing 1 | H56: Sing 2 | N56: MxTr | P56: Triples
B57: Court | D57: Court | F57: Court | H57: Court | N57: Court | P57: Court
A58: =Variables!B16 -> Gainesville | B58: 1 | D58: 6 | F58: 10 | H58: 8 | M58: =Variables!B19 -> Amelia | N58: 8 | P58: 3
A59: =Variables!B20 -> Tampa | M59: =Variables!B16 -> Gainesville
A61: =Variables!B21 -> St. Augustine | B61: 9 | D61: 3 | F61: 5 | H61: 4 | M61: =Variables!B18 -> Lake Worth | N61: 2 | P61: 6
A62: =Variables!B18 -> Lake Worth | M62: =Variables!B20 -> Tampa
A64: =Variables!B17 -> Miami | B64: 11 | D64: 7 | F64: 2 | H64: 12 | M64: =Variables!B21 -> St. Augustine | N64: 5 | P64: 1
A65: =Variables!B19 -> Amelia | M65: =Variables!B17 -> Miami

Sheet Scoresheet
A2: Game 1
B3: Mixed Doubles | F3: Doubles | J3: Singles 1 | N3: Singles 2 | R3: Total
B4: Court | C4: Score | D4: Points | F4: Court | G4: Score | H4: Points | J4: Court | K4: Score | L4: Points | N4: Court | O4: Score | P4: Points | R4: Points
A5: =Variables!B16 -> Gainesville | B5: 5 | C5: 13 | D5: =IF(C5>C6, Variables!$B$8, "") -> 3 | F5: 6 | G5: 13 | H5: =IF(G5>G6, Variables!$B$8, "") -> 3 | J5: 9 | K5: 1 | L5: =IF(K5>K6, Variables!$B$7, "") | N5: 7 | O5: 11 | P5: =IF(O5>O6, Variables!$B$7, "") | R5: =SUM(D5,H5,L5,P5) -> 6
A6: =Variables!B17 -> Miami | C6: 1 | D6: =IF(C6>C5, Variables!$B$8, "") | G6: 7 | H6: =IF(G6>G5, Variables!$B$8, "") | K6: 13 | L6: =IF(K6>K5, Variables!$B$7, "") -> 2 | O6: 13 | P6: =IF(O6>O5, Variables!$B$7, "") -> 2 | R6: =SUM(D6,H6,L6,P6) -> 4
A8: =Variables!B18 -> Lake Worth | B8: 10 | C8: 11 | D8: =IF(C8>C9, Variables!$B$8, "") | F8: 8 | G8: 13 | H8: =IF(G8>G9, Variables!$B$8, "") -> 3 | J8: 3 | K8: 13 | L8: =IF(K8>K9, Variables!$B$7, "") -> 2 | N8: 11 | O8: 13 | P8: =IF(O8>O9, Variables!$B$7, "") -> 2 | R8: =SUM(D8,H8,L8,P8) -> 7
A9: =Variables!B19 -> Amelia | C9: 13 | D9: =IF(C9>C8, Variables!$B$8, "") -> 3 | G9: 10 | H9: =IF(G9>G8, Variables!$B$8, "") | K9: 7 | L9: =IF(K9>K8, Variables!$B$7, "") | O9: 4 | P9: =IF(O9>O8, Variables!$B$7, "") | R9: =SUM(D9,H9,L9,P9) -> 3
A11: =Variables!B20 -> Tampa | B11: 1 | C11: 13 | D11: =IF(C11>C12, Variables!$B$8, "") -> 3 | F11: 4 | G11: 13 | H11: =IF(G11>G12, Variables!$B$8, "") -> 3 | J11: 12 | K11: 10 | L11: =IF(K11>K12, Variables!$B$7, "") | N11: 2 | O11: 13 | P11: =IF(O11>O12, Variables!$B$7, "") -> 2 | R11: =SUM(D11,H11,L11,P11) -> 8
A12: =Variables!B21 -> St. Augustine | C12: 11 | D12: =IF(C12>C11, Variables!$B$8, "") | G12: 0 | H12: =IF(G12>G11, Variables!$B$8, "") | K12: 13 | L12: =IF(K12>K11, Variables!$B$7, "") -> 2 | O12: 3 | P12: =IF(O12>O11, Variables!$B$7, "") | R12: =SUM(D12,H12,L12,P12) -> 2
A15: Game 2
B16: Mixed Triples | F16: Triples | J16: Total
B17: Court | C17: Score | D17: Points | F17: Court | G17: Score | H17: Points | J17: Points
A18: =Variables!B16 -> Gainesville | B18: 1 | C18: 13 | D18: =IF(C18>C19, Variables!$B$9, "") -> 5 | F18: 4 | G18: 12 | H18: =IF(G18>G19, Variables!$B$9, "") | J18: =SUM(D18,H18) -> 5
A19: =Variables!B18 -> Lake Worth | C19: 12 | D19: =IF(C19>C18, Variables!$B$9, "") | G19: 13 | H19: =IF(G19>G18, Variables!$B$9, "") -> 5 | J19: =SUM(D19,H19) -> 5
A21: =Variables!B20 -> Tampa | B21: 8 | C21: 4 | D21: =IF(C21>C22, Variables!$B$9, "") | F21: 3 | G21: 11 | H21: =IF(G21>G22, Variables!$B$9, "") | J21: =SUM(D21,H21) -> 0 | L21: Courts not in use
A22: =Variables!B17 -> Miami | C22: 13 | D22: =IF(C22>C21, Variables!$B$9, "") -> 5 | G22: 13 | H22: =IF(G22>G21, Variables!$B$9, "") -> 5 | J22: =SUM(D22,H22) -> 10 | L22: 2, 6, 9, 10, 11 and 12
A24: =Variables!B19 -> Amelia | B24: 7 | C24: 8 | D24: =IF(C24>C25, Variables!$B$9, "") | F24: 5 | G24: 13 | H24: =IF(G24>G25, Variables!$B$9, "") -> 5 | J24: =SUM(D24,H24) -> 5
A25: =Variables!B21 -> St. Augustine | C25: 13 | D25: =IF(C25>C24, Variables!$B$9, "") -> 5 | G25: 0 | H25: =IF(G25>G24, Variables!$B$9, "") | J25: =SUM(D25,H25) -> 5
A28: Game 3
B29: Mixed Doubles | F29: Doubles | J29: Singles 1 | N29: Singles 2 | R29: Total
B30: Court | C30: Score | D30: Points | F30: Court | G30: Score | H30: Points | J30: Court | K30: Score | L30: Points | N30: Court | O30: Score | P30: Points | R30: Points
A31: =Variables!B16 -> Gainesville | B31: 3 | C31: 13 | D31: =IF(C31>C32, Variables!$B$8, "") -> 3 | F31: 10 | G31: 13 | H31: =IF(G31>G32, Variables!$B$8, "") -> 3 | J31: 8 | K31: 10 | L31: =IF(K31>K32, Variables!$B$7, "") | N31: 11 | O31: 2 | P31: =IF(O31>O32, Variables!$B$7, "") | R31: =SUM(D31,H31,L31,P31) -> 6
A32: =Variables!B21 -> St. Augustine | C32: 7 | D32: =IF(C32>C31, Variables!$B$8, "") | G32: 2 | H32: =IF(G32>G31, Variables!$B$8, "") | K32: 13 | L32: =IF(K32>K31, Variables!$B$7, "") -> 2 | O32: 13 | P32: =IF(O32>O31, Variables!$B$7, "") -> 2 | R32: =SUM(D32,H32,L32,P32) -> 4
A34: =Variables!B18 -> Lake Worth | B34: 2 | C34: 13 | D34: =IF(C34>C35, Variables!$B$8, "") -> 3 | F34: 1 | G34: 3 | H34: =IF(G34>G35, Variables!$B$8, "") | J34: 12 | K34: 10 | L34: =IF(K34>K35, Variables!$B$7, "") | N34: 7 | O34: 13 | P34: =IF(O34>O35, Variables!$B$7, "") -> 2 | R34: =SUM(D34,H34,L34,P34) -> 5
A35: =Variables!B17 -> Miami | C35: 4 | D35: =IF(C35>C34, Variables!$B$8, "") | G35: 13 | H35: =IF(G35>G34, Variables!$B$8, "") -> 3 | K35: 13 | L35: =IF(K35>K34, Variables!$B$7, "") -> 2 | O35: 11 | P35: =IF(O35>O34, Variables!$B$7, "") | R35: =SUM(D35,H35,L35,P35) -> 5
A37: =Variables!B19 -> Amelia | B37: 9 | C37: 1 | D37: =IF(C37>C38, Variables!$B$8, "") | F37: 6 | G37: 13 | H37: =IF(G37>G38, Variables!$B$8, "") -> 3 | J37: 4 | K37: 13 | L37: =IF(K37>K38, Variables!$B$7, "") -> 2 | N37: 5 | O37: 7 | P37: =IF(O37>O38, Variables!$B$7, "") | R37: =SUM(D37,H37,L37,P37) -> 5
A38: =Variables!B20 -> Tampa | C38: 13 | D38: =IF(C38>C37, Variables!$B$8, "") -> 3 | G38: 3 | H38: =IF(G38>G37, Variables!$B$8, "") | K38: 7 | L38: =IF(K38>K37, Variables!$B$7, "") | O38: 13 | P38: =IF(O38>O37, Variables!$B$7, "") -> 2 | R38: =SUM(D38,H38,L38,P38) -> 5
A41: Game 4
B42: Mixed Triples | F42: Triples | J42: Total
B43: Court | C43: Score | D43: Points | F43: Court | G43: Score | H43: Points | J43: Points
A44: =Variables!B16 -> Gainesville | B44: 3 | C44: 1 | D44: =IF(C44>C45, Variables!$B$9, "") | F44: 7 | G44: 5 | H44: =IF(G44>G45, Variables!$B$9, "") | J44: =SUM(D44,H44) -> 0
A45: =Variables!B20 -> Tampa | C45: 13 | D45: =IF(C45>C44, Variables!$B$9, "") -> 5 | G45: 13 | H45: =IF(G45>G44, Variables!$B$9, "") -> 5 | J45: =SUM(D45,H45) -> 10
A47: =Variables!B21 -> St. Augustine | B47: 6 | C47: 6 | D47: =IF(C47>C48, Variables!$B$9, "") | F47: 8 | G47: 10 | H47: =IF(G47>G48, Variables!$B$9, "") | J47: =SUM(D47,H47) -> 0 | L47: Courts not in use
A48: =Variables!B18 -> Lake Worth | C48: 8 | D48: =IF(C48>C47, Variables!$B$9, "") -> 5 | G48: 13 | H48: =IF(G48>G47, Variables!$B$9, "") -> 5 | J48: =SUM(D48,H48) -> 10 | L48: 1, 5, 9, 10, 11 and 12
A50: =Variables!B17 -> Miami | B50: 2 | C50: 13 | D50: =IF(C50>C51, Variables!$B$9, "") -> 5 | F50: 4 | G50: 8 | H50: =IF(G50>G51, Variables!$B$9, "") | J50: =SUM(D50,H50) -> 5
A51: =Variables!B19 -> Amelia | C51: 7 | D51: =IF(C51>C50, Variables!$B$9, "") | G51: 13 | H51: =IF(G51>G50, Variables!$B$9, "") -> 5 | J51: =SUM(D51,H51) -> 5
A53: Game 5
B54: Mixed Doubles | F54: Doubles | J54: Singles 1 | N54: Singles 2 | R54: Total
B55: Court | C55: Score | D55: Points | F55: Court | G55: Score | H55: Points | J55: Court | K55: Score | L55: Points | N55: Court | O55: Score | P55: Points | R55: Points
A56: =Variables!B19 -> Amelia | B56: 12 | C56: 13 | D56: =IF(C56>C57, Variables!$B$8, "") -> 3 | F56: 2 | G56: 13 | H56: =IF(G56>G57, Variables!$B$8, "") -> 3 | J56: 10 | K56: 13 | L56: =IF(K56>K57, Variables!$B$7, "") -> 2 | N56: 1 | O56: 13 | P56: =IF(O56>O57, Variables!$B$7, "") -> 2 | R56: =SUM(D56,H56,L56,P56) -> 10
A57: =Variables!B16 -> Gainesville | C57: 12 | D57: =IF(C57>C56, Variables!$B$8, "") | G57: 7 | H57: =IF(G57>G56, Variables!$B$8, "") | K57: 12 | L57: =IF(K57>K56, Variables!$B$7, "") | O57: 11 | P57: =IF(O57>O56, Variables!$B$7, "") | R57: =SUM(D57,H57,L57,P57) -> 0
A59: =Variables!B18 -> Lake Worth | B59: 11 | C59: 13 | D59: =IF(C59>C60, Variables!$B$8, "") -> 3 | F59: 5 | G59: 8 | H59: =IF(G59>G60, Variables!$B$8, "") | J59: 7 | K59: 13 | L59: =IF(K59>K60, Variables!$B$7, "") -> 2 | N59: 4 | O59: 13 | P59: =IF(O59>O60, Variables!$B$7, "") -> 2 | R59: =SUM(D59,H59,L59,P59) -> 7
A60: =Variables!B20 -> Tampa | C60: 0 | D60: =IF(C60>C59, Variables!$B$8, "") | G60: 13 | H60: =IF(G60>G59, Variables!$B$8, "") -> 3 | K60: 7 | L60: =IF(K60>K59, Variables!$B$7, "") | O60: 9 | P60: =IF(O60>O59, Variables!$B$7, "") | R60: =SUM(D60,H60,L60,P60) -> 3
A62: =Variables!B21 -> St. Augustine | B62: 3 | C62: 1 | D62: =IF(C62>C63, Variables!$B$8, "") | F62: 6 | G62: 2 | H62: =IF(G62>G63, Variables!$B$8, "") | J62: 9 | K62: 0 | L62: =IF(K62>K63, Variables!$B$7, "") | N62: 8 | O62: 11 | P62: =IF(O62>O63, Variables!$B$7, "") | R62: =SUM(D62,H62,L62,P62) -> 0
A63: =Variables!B17 -> Miami | C63: 13 | D63: =IF(C63>C62, Variables!$B$8, "") -> 3 | G63: 13 | H63: =IF(G63>G62, Variables!$B$8, "") -> 3 | K63: 13 | L63: =IF(K63>K62, Variables!$B$7, "") -> 2 | O63: 13 | P63: =IF(O63>O62, Variables!$B$7, "") -> 2 | R63: =SUM(D63,H63,L63,P63) -> 10
A66: Game 6
B67: Mixed Triples | F67: Triples | J67: Total
B68: Court | C68: Score | D68: Points | F68: Court | G68: Score | H68: Points | J68: Points
A69: =Variables!B16 -> Gainesville | B69: 5 | C69: 10 | D69: =IF(C69>C70, Variables!$B$9, "") | F69: 4 | G69: 3 | H69: =IF(G69>G70, Variables!$B$9, "") | J69: =SUM(D69,H69) -> 0
A70: =Variables!B17 -> Miami | C70: 13 | D70: =IF(C70>C69, Variables!$B$9, "") -> 5 | G70: 13 | H70: =IF(G70>G69, Variables!$B$9, "") -> 5 | J70: =SUM(D70,H70) -> 10
A72: =Variables!B18 -> Lake Worth | B72: 6 | C72: 10 | D72: =IF(C72>C73, Variables!$B$9, "") | F72: 3 | G72: 13 | H72: =IF(G72>G73, Variables!$B$9, "") -> 5 | J72: =SUM(D72,H72) -> 5 | L72: Courts not in use
A73: =Variables!B19 -> Amelia | C73: 13 | D73: =IF(C73>C72, Variables!$B$9, "") -> 5 | G73: 5 | H73: =IF(G73>G72, Variables!$B$9, "") | J73: =SUM(D73,H73) -> 5 | L73: 2, 8, 9, 10, 11 and 12
A75: =Variables!B20 -> Tampa | B75: 7 | C75: 8 | D75: =IF(C75>C76, Variables!$B$9, "") | F75: 1 | G75: 10 | H75: =IF(G75>G76, Variables!$B$9, "") -> 5 | J75: =SUM(D75,H75) -> 5
A76: =Variables!B21 -> St. Augustine | C76: 12 | D76: =IF(C76>C75, Variables!$B$9, "") -> 5 | G76: 9 | H76: =IF(G76>G75, Variables!$B$9, "") | J76: =SUM(D76,H76) -> 5
A79: Game 7
B80: Mixed Doubles | F80: Doubles | J80: Singles 1 | N80: Singles 2 | R80: Total
B81: Court | C81: Score | D81: Points | F81: Court | G81: Score | H81: Points | J81: Court | K81: Score | L81: Points | N81: Court | O81: Score | P81: Points | R81: Points
A82: =Variables!B16 -> Gainesville | B82: 12 | C82: 1 | D82: =IF(C82>C83, Variables!$B$8, "") | F82: 5 | G82: 1 | H82: =IF(G82>G83, Variables!$B$8, "") | J82: 2 | K82: 13 | L82: =IF(K82>K83, Variables!$B$7, "") -> 2 | N82: 8 | O82: 7 | P82: =IF(O82>O83, Variables!$B$7, "") | R82: =SUM(D82,H82,L82,P82) -> 2
A83: =Variables!B18 -> Lake Worth | C83: 13 | D83: =IF(C83>C82, Variables!$B$8, "") -> 3 | G83: 13 | H83: =IF(G83>G82, Variables!$B$8, "") -> 3 | K83: 3 | L83: =IF(K83>K82, Variables!$B$7, "") | O83: 13 | P83: =IF(O83>O82, Variables!$B$7, "") -> 2 | R83: =SUM(D83,H83,L83,P83) -> 8
C84: 1
A85: =Variables!B20 -> Tampa | B85: 10 | C85: 13 | D85: =IF(C85>C86, Variables!$B$8, "") -> 3 | F85: 11 | G85: 13 | H85: =IF(G85>G86, Variables!$B$8, "") -> 3 | J85: 3 | K85: 6 | L85: =IF(K85>K86, Variables!$B$7, "") | N85: 6 | O85: 8 | P85: =IF(O85>O86, Variables!$B$7, "") | R85: =SUM(D85,H85,L85,P85) -> 6
A86: =Variables!B17 -> Miami | C86: 0 | D86: =IF(C86>C85, Variables!$B$8, "") | G86: 6 | H86: =IF(G86>G85, Variables!$B$8, "") | K86: 13 | L86: =IF(K86>K85, Variables!$B$7, "") -> 2 | O86: 13 | P86: =IF(O86>O85, Variables!$B$7, "") -> 2 | R86: =SUM(D86,H86,L86,P86) -> 4
A88: =Variables!B19 -> Amelia | B88: 4 | C88: 10 | D88: =IF(C88>C89, Variables!$B$8, "") | F88: 1 | G88: 13 | H88: =IF(G88>G89, Variables!$B$8, "") -> 3 | J88: 7 | K88: 13 | L88: =IF(K88>K89, Variables!$B$7, "") -> 2 | N88: 9 | O88: 13 | P88: =IF(O88>O89, Variables!$B$7, "") -> 2 | R88: =SUM(D88,H88,L88,P88) -> 7
A89: =Variables!B21 -> St. Augustine | C89: 11 | D89: =IF(C89>C88, Variables!$B$8, "") -> 3 | G89: 7 | H89: =IF(G89>G88, Variables!$B$8, "") | K89: 11 | L89: =IF(K89>K88, Variables!$B$7, "") | O89: 7 | P89: =IF(O89>O88, Variables!$B$7, "") | R89: =SUM(D89,H89,L89,P89) -> 3
A92: Game 8
B93: Mixed Triples | F93: Triples | J93: Total
B94: Court | C94: Score | D94: Points | F94: Court | G94: Score | H94: Points | J94: Points
A95: =Variables!B16 -> Gainesville | B95: 2 | C95: 10 | D95: =IF(C95>C96, Variables!$B$9, "") | F95: 6 | G95: 13 | H95: =IF(G95>G96, Variables!$B$9, "") -> 5 | J95: =SUM(D95,H95) -> 5
A96: =Variables!B21 -> St. Augustine | C96: 12 | D96: =IF(C96>C95, Variables!$B$9, "") -> 5 | G96: 4 | H96: =IF(G96>G95, Variables!$B$9, "") | J96: =SUM(D96,H96) -> 5
A98: =Variables!B18 -> Lake Worth | B98: 1 | C98: 12 | D98: =IF(C98>C99, Variables!$B$9, "") -> 5 | F98: 4 | G98: 3 | H98: =IF(G98>G99, Variables!$B$9, "") | J98: =SUM(D98,H98) -> 5 | L98: Courts not in use
A99: =Variables!B17 -> Miami | C99: 10 | D99: =IF(C99>C98, Variables!$B$9, "") | G99: 9 | H99: =IF(G99>G98, Variables!$B$9, "") -> 5 | J99: =SUM(D99,H99) -> 5 | L99: 3, 7, 9, 10, 11 and 12
A101: =Variables!B19 -> Amelia | B101: 5 | C101: 10 | D101: =IF(C101>C102, Variables!$B$9, "") | F101: 8 | G101: 11 | H101: =IF(G101>G102, Variables!$B$9, "") -> 5 | J101: =SUM(D101,H101) -> 5
A102: =Variables!B20 -> Tampa | C102: 13 | D102: =IF(C102>C101, Variables!$B$9, "") -> 5 | G102: 10 | H102: =IF(G102>G101, Variables!$B$9, "") | J102: =SUM(D102,H102) -> 5
A104: Game 9
B105: Mixed Doubles | F105: Doubles | J105: Singles 1 | N105: Singles 2 | R105: Total
B106: Court | C106: Score | D106: Points | F106: Court | G106: Score | H106: Points | J106: Court | K106: Score | L106: Points | N106: Court | O106: Score | P106: Points | R106: Points
A107: =Variables!B16 -> Gainesville | B107: 1 | C107: 5 | D107: =IF(C107>C108, Variables!$B$8, "") | F107: 6 | G107: 9 | H107: =IF(G107>G108, Variables!$B$8, "") | J107: 10 | K107: 6 | L107: =IF(K107>K108, Variables!$B$7, "") | N107: 8 | O107: 13 | P107: =IF(O107>O108, Variables!$B$7, "") -> 2 | R107: =SUM(D107,H107,L107,P107) -> 2
A108: =Variables!B20 -> Tampa | C108: 13 | D108: =IF(C108>C107, Variables!$B$8, "") -> 3 | G108: 10 | H108: =IF(G108>G107, Variables!$B$8, "") -> 3 | K108: 13 | L108: =IF(K108>K107, Variables!$B$7, "") -> 2 | O108: 8 | P108: =IF(O108>O107, Variables!$B$7, "") | R108: =SUM(D108,H108,L108,P108) -> 8
A110: =Variables!B21 -> St. Augustine | B110: 9 | C110: 13 | D110: =IF(C110>C111, Variables!$B$8, "") -> 3 | F110: 3 | G110: 11 | H110: =IF(G110>G111, Variables!$B$8, "") | J110: 5 | K110: 6 | L110: =IF(K110>K111, Variables!$B$7, "") | N110: 4 | O110: 13 | P110: =IF(O110>O111, Variables!$B$7, "") -> 2 | R110: =SUM(D110,H110,L110,P110) -> 5
A111: =Variables!B18 -> Lake Worth | C111: 10 | D111: =IF(C111>C110, Variables!$B$8, "") | G111: 13 | H111: =IF(G111>G110, Variables!$B$8, "") -> 3 | K111: 13 | L111: =IF(K111>K110, Variables!$B$7, "") -> 2 | O111: 10 | P111: =IF(O111>O110, Variables!$B$7, "") | R111: =SUM(D111,H111,L111,P111) -> 5
A113: =Variables!B17 -> Miami | B113: 11 | C113: 13 | D113: =IF(C113>C114, Variables!$B$8, "") -> 3 | F113: 7 | G113: 13 | H113: =IF(G113>G114, Variables!$B$8, "") -> 3 | J113: 2 | K113: 13 | L113: =IF(K113>K114, Variables!$B$7, "") -> 2 | N113: 12 | O113: 13 | P113: =IF(O113>O114, Variables!$B$7, "") -> 2 | R113: =SUM(D113,H113,L113,P113) -> 10
A114: =Variables!B19 -> Amelia | C114: 11 | D114: =IF(C114>C113, Variables!$B$8, "") | G114: 11 | H114: =IF(G114>G113, Variables!$B$8, "") | K114: 4 | L114: =IF(K114>K113, Variables!$B$7, "") | O114: 8 | P114: =IF(O114>O113, Variables!$B$7, "") | R114: =SUM(D114,H114,L114,P114) -> 0
A117: Game 10
B118: Mixed Triples | F118: Triples | J118: Total
B119: Court | C119: Score | D119: Points | F119: Court | G119: Score | H119: Points | J119: Points
A120: =Variables!B19 -> Amelia | B120: 8 | C120: 11 | D120: =IF(C120>C121, Variables!$B$9, "") -> 5 | F120: 3 | G120: 9 | H120: =IF(G120>G121, Variables!$B$9, "") -> 5 | J120: =SUM(D120,H120) -> 10
A121: =Variables!B16 -> Gainesville | C121: 8 | D121: =IF(C121>C120, Variables!$B$9, "") | G121: 8 | H121: =IF(G121>G120, Variables!$B$9, "") | J121: =SUM(D121,H121) -> 0
A123: =Variables!B18 -> Lake Worth | B123: 2 | C123: 13 | D123: =IF(C123>C124, Variables!$B$9, "") -> 5 | F123: 6 | G123: 0 | H123: =IF(G123>G124, Variables!$B$9, "") | J123: =SUM(D123,H123) -> 5 | L123: Courts not in use
A124: =Variables!B20 -> Tampa | C124: 10 | D124: =IF(C124>C123, Variables!$B$9, "") | G124: 13 | H124: =IF(G124>G123, Variables!$B$9, "") -> 5 | J124: =SUM(D124,H124) -> 5 | L124: 4, 7, 9, 10, 11 and 12
A126: =Variables!B21 -> St. Augustine | B126: 5 | C126: 10 | D126: =IF(C126>C127, Variables!$B$9, "") | F126: 1 | G126: 8 | H126: =IF(G126>G127, Variables!$B$9, "") | J126: =SUM(D126,H126) -> 0
A127: =Variables!B17 -> Miami | C127: 12 | D127: =IF(C127>C126, Variables!$B$9, "") -> 5 | G127: 13 | H127: =IF(G127>G126, Variables!$B$9, "") -> 5 | J127: =SUM(D127,H127) -> 10

Sheet Results
B3: Game 1 | C3: Game 2 | D3: Game 3 | E3: Game 4 | F3: Game 5 | G3: Game 6 | H3: Game 7 | I3: Game 8 | J3: Game 9 | K3: Game 10 | L3: Total | M3: Ranking
A4: =Variables!B17 -> Miami | B4: =Scoresheet!R6 -> 4 | C4: =Scoresheet!J22 -> 10 | D4: =Scoresheet!R35 -> 5 | E4: =Scoresheet!J50 -> 5 | F4: =Scoresheet!R63 -> 10 | G4: =Scoresheet!J70 -> 10 | H4: =Scoresheet!R86 -> 4 | I4: =Scoresheet!J99 -> 5 | J4: =Scoresheet!R113 -> 10 | K4: =Scoresheet!J127 -> 10 | L4: =SUM(B4:K4) -> 73 | M4: =_xlfn.RANK.EQ(L4,$L$4:$L$9,0) -> 1
A5: =Variables!B18 -> Lake Worth | B5: =Scoresheet!R8 -> 7 | C5: =Scoresheet!J19 -> 5 | D5: =Scoresheet!R34 -> 5 | E5: =Scoresheet!J48 -> 10 | F5: =Scoresheet!R59 -> 7 | G5: =Scoresheet!J72 -> 5 | H5: =Scoresheet!R83 -> 8 | I5: =Scoresheet!J98 -> 5 | J5: =Scoresheet!R111 -> 5 | K5: =Scoresheet!J123 -> 5 | L5: =SUM(B5:K5) -> 62 | M5: =_xlfn.RANK.EQ(L5,$L$4:$L$9,0) -> 2
A6: =Variables!B20 -> Tampa | B6: =Scoresheet!R11 -> 8 | C6: =Scoresheet!J21 -> 0 | D6: =Scoresheet!R38 -> 5 | E6: =Scoresheet!J45 -> 10 | F6: =Scoresheet!R60 -> 3 | G6: =Scoresheet!J75 -> 5 | H6: =Scoresheet!R85 -> 6 | I6: =Scoresheet!J102 -> 5 | J6: =Scoresheet!R108 -> 8 | K6: =Scoresheet!J124 -> 5 | L6: =SUM(B6:K6) -> 55 | M6: =_xlfn.RANK.EQ(L6,$L$4:$L$9,0) -> 3
A7: =Variables!B19 -> Amelia | B7: =Scoresheet!R9 -> 3 | C7: =Scoresheet!J24 -> 5 | D7: =Scoresheet!R37 -> 5 | E7: =Scoresheet!J51 -> 5 | F7: =Scoresheet!R56 -> 10 | G7: =Scoresheet!J73 -> 5 | H7: =Scoresheet!R88 -> 7 | I7: =Scoresheet!J101 -> 5 | J7: =Scoresheet!R114 -> 0 | K7: =Scoresheet!J120 -> 10 | L7: =SUM(B7:K7) -> 55 | M7: =_xlfn.RANK.EQ(L7,$L$4:$L$9,0) -> 3
A8: =Variables!B21 -> St. Augustine | B8: =Scoresheet!R12 -> 2 | C8: =Scoresheet!J25 -> 5 | D8: =Scoresheet!R32 -> 4 | E8: =Scoresheet!J47 -> 0 | F8: =Scoresheet!R62 -> 0 | G8: =Scoresheet!J76 -> 5 | H8: =Scoresheet!R89 -> 3 | I8: =Scoresheet!J96 -> 5 | J8: =Scoresheet!R110 -> 5 | K8: =Scoresheet!J126 -> 0 | L8: =SUM(B8:K8) -> 29 | M8: =_xlfn.RANK.EQ(L8,$L$4:$L$9,0) -> 5
A9: =Variables!B16 -> Gainesville | B9: =Scoresheet!R5 -> 6 | C9: =Scoresheet!J18 -> 5 | D9: =Scoresheet!R31 -> 6 | E9: =Scoresheet!J44 -> 0 | F9: =Scoresheet!R57 -> 0 | G9: =Scoresheet!J69 -> 0 | H9: =Scoresheet!R82 -> 2 | I9: =Scoresheet!J95 -> 5 | J9: =Scoresheet!R107 -> 2 | K9: =Scoresheet!J121 -> 0 | L9: =SUM(B9:K9) -> 26 | M9: =_xlfn.RANK.EQ(L9,$L$4:$L$9,0) -> 6
